BEGIN:VCALENDAR
VERSION:2.0
PRODID:-//Salalah Charity Team - ECPv6.7.0//NONSGML v1.0//EN
CALSCALE:GREGORIAN
METHOD:PUBLISH
X-ORIGINAL-URL:https://salalahct.com
X-WR-CALDESC:Events for Salalah Charity Team
REFRESH-INTERVAL;VALUE=DURATION:PT1H
X-Robots-Tag:noindex
X-PUBLISHED-TTL:PT1H
BEGIN:VTIMEZONE
TZID:UTC
BEGIN:STANDARD
TZOFFSETFROM:+0000
TZOFFSETTO:+0000
TZNAME:UTC
DTSTART:20240101T000000
END:STANDARD
END:VTIMEZONE
BEGIN:VEVENT
DTSTART;TZID=UTC:20240509T000000
DTEND;TZID=UTC:20240510T000000
DTSTAMP:20260424T064713
CREATED:20200909T040221Z
LAST-MODIFIED:20230613T083924Z
UID:2056-1715212800-1715299200@salalahct.com
SUMMARY:Excitement From A Quote About Charity
DESCRIPTION:Dear Mr. President\, There are too many states nowadays. Please\, eliminate three. P.S. I am not a crackpot. You don’t win friends with salad. I’m a Spalding Gray in a Rick Dees world. D’oh. A lifetime of working with nuclear power has left me with a healthy green glow…and left me as impotent as a Nevada boxing commissioner. No children have ever meddled with the Republican Party and lived to tell about it.
URL:https://salalahct.com/event/excitement-from-a-quote-about-charity-2/
LOCATION:San Diego Zoo\, San Diego\, 92101\, United States
CATEGORIES:Education,Vaccine
ORGANIZER;CN="Sammy Sosa":MAILTO:baseball@hotmail.com
END:VEVENT
END:VCALENDAR